BEGIN:VCALENDAR
VERSION:2.0
PRODID:-//Library Market//iCal Export//EN
BEGIN:VEVENT
SUMMARY:Community Bike Bus with BBPH and BPD
UID:20194
DTSTAMP:20260424T120600Z
DTSTART:20260518T230000Z
DTEND:20260519T000000Z
LOCATION:515 N 5th Street, Bismarck, ND 58501, United States
ROOM: Library Plaza
DESCRIPTION:Celebrate National Bike Month with us! Join the community in 
 recognizing this special time and enjoy a fun, active evening together.Fam
 ilies and community members are encouraged to join the library, Bismarck-B
 urleigh Public Health, the Bismarck Police Department, and Sanford Childre
 n&#039;s Hospital for an evening bike ride to the Capitol. Meet at the Lib
 rary Plaza at 6pm for safety rules and expectations. BPD Safety Escort wil
 l lead us at 6:10pm to the Capitol and back.Riders of all ages are welcome
 . Helmets are encouraged to keep everyone safe, especially children. Famil
 ies are encouraged to monitor children’s riding to ensure a safe experie
 nce for all.
URL:https://bismarcklib.librarycalendar.com/event/community-bike-bus-bbph-
 20194
END:VEVENT
END:VCALENDAR
