BEGIN:VCALENDAR
VERSION:2.0
PRODID:-//Library Market//iCal Export//EN
BEGIN:VEVENT
SUMMARY:Book Bedazzling for Teens
UID:20869
DTSTAMP:20260424T215300Z
DTSTART:20260608T193000Z
DTEND:20260608T213000Z
LOCATION:515 N 5th Street, Bismarck, ND 58501, United States
ROOM: Teen HQ
DESCRIPTION:Want to add some serious sparkle to your reading game? Bring a
  favorite book from home and bedazzle it with diamond art drills! If you d
 on’t have a book to bring, no worries—grab a free book from our stash 
 and get crafty. We can’t wait to see your sparkling creations!
URL:https://bismarcklib.librarycalendar.com/event/book-bedazzling-teens-20
 869
END:VEVENT
END:VCALENDAR
