BEGIN:VCALENDAR
VERSION:2.0
PRODID:-//Library Market//iCal Export//EN
BEGIN:VEVENT
SUMMARY:Rosemaled Bookmarks for Teens
UID:20870
DTSTAMP:20260425T194100Z
DTSTART:20260610T193000Z
DTEND:20260610T213000Z
LOCATION:515 N 5th Street, Bismarck, ND 58501, United States
ROOM: Teen HQ
DESCRIPTION:Join artist Molly McLain for a hands-on workshop where you’l
 l dive into the world of rosemaling, a beautiful traditional Norwegian fol
 k-art! In this session, you&#039;ll learn rosemaling brush strokes and cre
 ate your own unique rosemaled wooden bookmark to take home. Don’t worry 
 if you’ve never tried this before—no experience is needed! Just bring 
 your enthusiasm and creativity, and get ready to make something amazing! 
 Space is limited and registration is required. Register online or call 70
 1-355-1489 to save your spot. This program is sponsored by the Friends of
  the Bismarck Public Library.
URL:https://bismarcklib.librarycalendar.com/event/rosemaled-bookmarks-teen
 s-20870
END:VEVENT
END:VCALENDAR
