BEGIN:VCALENDAR
VERSION:2.0
PRODID:-//Library Market//iCal Export//EN
BEGIN:VEVENT
SUMMARY:Introduction to 3D Printing for Teens
UID:20881
DTSTAMP:20260425T194100Z
DTSTART:20260706T183000Z
DTEND:20260706T200000Z
LOCATION:515 N 5th Street, Bismarck, ND 58501, United States
ROOM: Teen HQ
DESCRIPTION:Are you curious about how to use the 3D printer in Teen HQ? If
  you want to learn the basics and start your own 3D-printed project, make 
 sure to register online! You can also call 701-355-1489 to save your spot.
  Once your project is complete, we’ll reach out to let you know it’s r
 eady for pickup. Space is limited and registration is required.  Registe
 r online or call 701-355-1489 to save your spot. 
URL:https://bismarcklib.librarycalendar.com/event/introduction-3d-printing
 -teens-20881
END:VEVENT
END:VCALENDAR
