BEGIN:VCALENDAR
VERSION:2.0
PRODID:-//Library Market//iCal Export//EN
BEGIN:VEVENT
SUMMARY:Drop In Ukulele Lounge for Teens
UID:20896
DTSTAMP:20260425T191200Z
DTSTART:20260618T203000Z
DTEND:20260618T211500Z
LOCATION:515 N 5th Street, Bismarck, ND 58501, United States
ROOM: Teen HQ
DESCRIPTION:Join local musician Kris Kitko (Kittyko) for a lively introduc
 tion to ukulele basics! This hands-on session is perfect for teens looking
  to dive into music. You&#039;ll learn chords, rhythm, and how to play wit
 h confidence, all while having fun and working with music you suggest! No 
 experience is necessary. Teens are welcome to attend one, two, or all of t
 he sessions. A limited number of ukuleles will be available for use, but t
 eens can also bring their own if they&#039;d like. Don&#039;t miss out on 
 this chance to explore music and express yourself!
URL:https://bismarcklib.librarycalendar.com/event/drop-ukulele-lounge-teen
 s-20896
END:VEVENT
END:VCALENDAR
