BEGIN:VCALENDAR
VERSION:2.0
PRODID:-//Library Market//iCal Export//EN
BEGIN:VEVENT
SUMMARY:Toddler Story Time
UID:20903
DTSTAMP:20260424T120600Z
DTSTART:20260616T143000Z
DTEND:20260616T144500Z
LOCATION:515 N 5th Street, Bismarck, ND 58501, United States
ROOM: Story Room
DESCRIPTION:Join Miss Tiffany Tuesdays at 9:30 am for Toddler Story Time.Â
  This story time focuses on songs &amp; books because we are teaching chil
 dren to love and appreciate stories, and we are also helping them learn ho
 w to attend a library story time. Singing also helps develop language, sou
 nds, and patterns, which all builds on your childâ€™s early literacy skill
 s. There are NO PUPPETS used during Toddler Story Time so that the focus c
 an be on the stories, songs, and books.18 months to 3 years (20 minutes)Â 
URL:https://bismarcklib.librarycalendar.com/event/toddler-story-time-20903
END:VEVENT
END:VCALENDAR
