BEGIN:VCALENDAR
VERSION:2.0
PRODID:-//Library Market//iCal Export//EN
BEGIN:VEVENT
SUMMARY:Toddler Story Time
UID:20908
DTSTAMP:20260425T194100Z
DTSTART:20260602T151500Z
DTEND:20260602T153000Z
LOCATION:515 N 5th Street, Bismarck, ND 58501, United States
ROOM: Story Room
DESCRIPTION:Join Miss Tiffany Tuesdays at 10:15 am for Toddler Story Time.
 Â This story time focuses on songs &amp; books because we are teaching chi
 ldren to love and appreciate stories, and we are also helping them learn h
 ow to attend a library story time. Singing also helps develop language, so
 unds, and patterns, which all builds on your childâ€™s early literacy skil
 ls. There are NO PUPPETS used during Toddler Story Time so that the focus 
 can be on the stories, songs, and books.18 months to 3 years (20 minutes)Â
  
URL:https://bismarcklib.librarycalendar.com/event/toddler-story-time-20908
END:VEVENT
END:VCALENDAR
