BEGIN:VCALENDAR
VERSION:2.0
PRODID:-//Library Market//iCal Export//EN
BEGIN:VEVENT
SUMMARY:Preschool Story Time
UID:20928
DTSTAMP:20260424T120600Z
DTSTART:20260617T151500Z
DTEND:20260617T154500Z
LOCATION:515 N 5th Street, Bismarck, ND 58501, United States
ROOM: Story Room
DESCRIPTION:Join Miss Tiffany and friends Wednesdays at 10:15 am for Presc
 hool Story Time. This story time focuses on books, puppets, and songs. Sp
 eaking puppets help bring stories to life and spark imagination in your ch
 ild. Our main focus at Preschool Story Time is to instill a love of readin
 g, encourage creativity, and help children become aware of the world aroun
 d them.3-6 years of age (25 minutes) 
URL:https://bismarcklib.librarycalendar.com/event/preschool-story-time-209
 28
END:VEVENT
END:VCALENDAR
