BEGIN:VCALENDAR
VERSION:2.0
PRODID:-//Library Market//iCal Export//EN
BEGIN:VEVENT
SUMMARY:Brainy Ink: Dino Discovery
UID:20950
DTSTAMP:20260424T120600Z
DTSTART:20260602T160000Z
DTEND:20260602T164500Z
LOCATION:515 N 5th Street, Bismarck, ND 58501, United States
ROOM: Story Room
DESCRIPTION:Get ready to travel back in time with Dino Discovery, an excit
 ing hands-on experience by Brainy Ink designed to bring the world of dinos
 aurs to life!In this interactive program, young explorers will dig, discov
 er, and investigate as they uncover the science behind dinosaurs. Through 
 engaging activities and guided exploration, kids will step into the role o
 f paleontologists while connecting learning to the joy of reading and disc
 overy. Ages PreK-4th Grade. Children under the age of 10 must be accompan
 ied at all times by a caregiver 12+. 
URL:https://bismarcklib.librarycalendar.com/event/brainy-ink-dino-discover
 y-20950
END:VEVENT
END:VCALENDAR
