BEGIN:VCALENDAR
VERSION:2.0
PRODID:-//Library Market//iCal Export//EN
BEGIN:VEVENT
SUMMARY:Library Tour
UID:20978
DTSTAMP:20260424T215300Z
DTSTART:20260516T143000Z
DTEND:20260516T163000Z
LOCATION:515 N 5th Street, Bismarck, ND 58501, United States
ROOM: Main Floor Atrium
DESCRIPTION:Ever been curious about the inner workings of the library? Her
 e&#039;s your chance to satisfy that curiosity! Our library staff guide w
 ill give you an insider&#039;s look at the spaces and activities that make
  our library run smoothly each day. The informative tour will last approxi
 mately two hours and is limited to eight adult participants.
URL:https://bismarcklib.librarycalendar.com/event/library-tour-20978
END:VEVENT
END:VCALENDAR
