BEGIN:VCALENDAR
VERSION:2.0
PRODID:-//Library Market//iCal Export//EN
BEGIN:VEVENT
SUMMARY:Wishing Star Jars for Teens
UID:20993
DTSTAMP:20260425T191200Z
DTSTART:20260728T200000Z
DTEND:20260728T210000Z
LOCATION:515 N 5th Street, Bismarck, ND 58501, United States
ROOM: Teen HQ
DESCRIPTION:Stop by Teen HQ for a super satisfying craft experience. Creat
 e a jar filled with stars suspended in water beads that looks amazing on d
 isplay.
URL:https://bismarcklib.librarycalendar.com/event/wishing-star-jars-teens-
 20993
END:VEVENT
END:VCALENDAR
