BEGIN:VCALENDAR
VERSION:2.0
PRODID:-//Library Market//iCal Export//EN
BEGIN:VEVENT
SUMMARY:Mosaic Making for Teens
UID:20995
DTSTAMP:20260425T194100Z
DTSTART:20260730T193000Z
DTEND:20260730T203000Z
LOCATION:515 N 5th Street, Bismarck, ND 58501, United States
ROOM: Teen HQ
DESCRIPTION:Join artist Molly McLain to explore the art of mosaic-making i
 n this hands-on, two-part workshop.  Teens will spend the first session l
 earning the basics of mosaic design and will begin designing and assemblin
 g their mosaic. They will return the next day to complete the project by 
 learning how to grout, finish, and preserve their artwork. No prior experi
 ence is needed—all materials will be provided. Just bring your creativit
 y and be ready to make something amazing.Space is limited and registration
  is required.  When you register, you are registering for both dates. Th
 is program is sponsored by the Friends of the Bismarck Public Library.
URL:https://bismarcklib.librarycalendar.com/event/mosaic-making-teens-2099
 5
END:VEVENT
END:VCALENDAR
